BEGIN:VCALENDAR
VERSION:2.0
PRODID:-//ZMMAA - ECPv6.15.20//NONSGML v1.0//EN
CALSCALE:GREGORIAN
METHOD:PUBLISH
X-ORIGINAL-URL:https://www.zmmaa.org
X-WR-CALDESC:Events for ZMMAA
REFRESH-INTERVAL;VALUE=DURATION:PT1H
X-Robots-Tag:noindex
X-PUBLISHED-TTL:PT1H
BEGIN:VTIMEZONE
TZID:UTC
BEGIN:STANDARD
TZOFFSETFROM:+0000
TZOFFSETTO:+0000
TZNAME:UTC
DTSTART:20210101T000000
END:STANDARD
END:VTIMEZONE
BEGIN:VEVENT
DTSTART;TZID=UTC:20241214T080000
DTEND;TZID=UTC:20241214T170000
DTSTAMP:20260421T132745
CREATED:20241126T100100Z
LAST-MODIFIED:20241126T101326Z
UID:1311-1734163200-1734195600@www.zmmaa.org
SUMMARY:MANICALAND SPECIAL MIXED MARTIAL ARTS SEMINAR
DESCRIPTION:Attention MMA Enthusiasts! \n\n\nThe Manicaland MMA Association invites you to a one-of-a-kind Special Mixed Martial Arts Seminar in Mutare!\n\n\n\n When? 14 December 2024\n Where? MMO Gym\, Hobhouse 2195\, Mutare (Magada Shopping Center)\n Time? 8:00 AM – 5:00 PM\n Fee? $12\n\n\n What’s in it for you?\n\n\n Certification as an MMA practitioner or coach\n Learn key techniques and movements from Special Guests from Harare\n Network with MMA practitioners from across Zimbabwe\n\n Contact us to book your spot now:\n+263 77 474 4649 | +263 77 905 5429\n\n\nLet’s grow MMA together! Tag your training buddies and don’t miss out.\n\n\n#MMAZim #MutareMMA #MixedMartialArts
URL:https://www.zmmaa.org/event/manicaland-special-mixed-martial-arts-seminar/
LOCATION:MMO GYM (MAGADA SHOPPING CENTER)\, HOBHOUSE 2195\, Mutare\, Manicaland
CATEGORIES:exibitions,seminar,special,training
ATTACH;FMTTYPE=image/jpeg:https://www.zmmaa.org/wp-content/uploads/2024/11/Mutare-Seminar-2024.jpg
ORGANIZER;CN="Manicaland Mixed Martial Arts Association":MAILTO:info@zmmaa.org
END:VEVENT
BEGIN:VEVENT
DTSTART;TZID=UTC:20230923T080000
DTEND;TZID=UTC:20230923T130000
DTSTAMP:20260421T132745
CREATED:20230912T114835Z
LAST-MODIFIED:20230912T114835Z
UID:1339-1695456000-1695474000@www.zmmaa.org
SUMMARY:Midlands Provincial Seminar
DESCRIPTION:We bring exciting news today to our Midlands audience interested in the sport of MMA with another excellent coaching and fundamentals seminar in Gweru to introduce MMA and set up a board in the province. \nZMMAA is thrilled to present yet another exhilarating seminar\, this time in the heart of Mvurwi. Get ready to elevate your skills and knowledge in mixed martial arts! Secure your spot in advance to ensure you take full advantage of this incredible opportunity. \nDate: September 23rd 2023\nTime: 8:00 AM – 1:00 PM\nVenue: Muscle Fitness GYM (Luton Rd\, Opposite Gweru VID exit gate.)\nRegistration Fee: $10 \nThis is an opportunity for future world champions to embark on their journey. Check out the detailed flyer for more information. We can’t wait to see you there!
URL:https://www.zmmaa.org/event/midlands-provincial-seminar/
LOCATION:Muscle & Fitness gym\, Gweru  ( Luton.Rd. Opposite Gweru V.I.D exit gate )\, Zimbabwe
CATEGORIES:seminar,training
ATTACH;FMTTYPE=image/jpeg:https://www.zmmaa.org/wp-content/uploads/2023/09/374579341_322861056936594_6441326165165925798_n.jpg
ORGANIZER;CN="ZMMAA":MAILTO:info@zmmaa.org
END:VEVENT
BEGIN:VEVENT
DTSTART;TZID=UTC:20230211T080000
DTEND;TZID=UTC:20230211T150000
DTSTAMP:20260421T132745
CREATED:20221018T100009Z
LAST-MODIFIED:20221110T122116Z
UID:804-1676102400-1676127600@www.zmmaa.org
SUMMARY:Matebeleland Provincial Training Seminar
DESCRIPTION:More details about the Seminar Coming Soon!
URL:https://www.zmmaa.org/event/matebeleland-provincial-training-seminar/
LOCATION:Manicaland
CATEGORIES:seminar,training
ATTACH;FMTTYPE=image/jpeg:https://www.zmmaa.org/wp-content/uploads/2023/02/coming-soon.jpg
ORGANIZER;CN="ZMMAA":MAILTO:info@zmmaa.org
END:VEVENT
BEGIN:VEVENT
DTSTART;TZID=UTC:20221105T080000
DTEND;TZID=UTC:20221105T120000
DTSTAMP:20260421T132745
CREATED:20221005T101026Z
LAST-MODIFIED:20221110T121855Z
UID:763-1667635200-1667649600@www.zmmaa.org
SUMMARY:Manicaland Provincial Training Seminar
DESCRIPTION:Join us for the First Ever ZMMAA Provincial Seminar in Manicaland\, Mutare More details are in the Poster.
URL:https://www.zmmaa.org/event/manicaland-seminar/
LOCATION:Number 3 Jubelee street\, Manicaland Girl Guides Hall\, Mutare\, Manicaland\, Zimbabwe
CATEGORIES:seminar,training
ATTACH;FMTTYPE=image/jpeg:https://www.zmmaa.org/wp-content/uploads/2022/10/ZMMAA-Manicaland-1.jpg
ORGANIZER;CN="ZMMAA":MAILTO:info@zmmaa.org
END:VEVENT
END:VCALENDAR